BEGIN:VCALENDAR
PRODID:-//AT Content Types//AT Event//EN
VERSION:1.0
BEGIN:VEVENT
DTSTART:20090304T033000Z
DTEND:20090304T063000Z
DCREATED:20090309T231410Z
UID:ATEvent-46b1e6fce5c36dc99ddbe857a344ef7d
SEQUENCE:0
LAST-MODIFIED:20260413T231228Z
SUMMARY:Sagacity Social Night
DESCRIPTION:Our first Tuesday of the month social gathering is special
 !
PRIORITY:3
TRANSP:0
END:VEVENT
END:VCALENDAR
