BEGIN:VCALENDAR
PRODID:-//AT Content Types//AT Event//EN
VERSION:1.0
BEGIN:VEVENT
DTSTART:20110723T210000Z
DTEND:20110724T060000Z
DCREATED:20040619T062235Z
UID:ATEvent-9b0fe583e3f0cc5f2f7b4b45b2011c51
SEQUENCE:0
LAST-MODIFIED:20260413T231202Z
SUMMARY:Annual Family BBQ & Picnic
DESCRIPTION:Who says you have to be kinky to have fun? Have a picnic w
 ith Sagacity.
LOCATION:Gyro Beach in Victoria
PRIORITY:3
TRANSP:0
END:VEVENT
END:VCALENDAR
