BEGIN:VCALENDAR
PRODID:-//AT Content Types//AT Event//EN
VERSION:2.0
METHOD:PUBLISH
BEGIN:VEVENT
DTSTAMP:20260419T193840Z
CREATED:20070423T190420Z
UID:ATEvent-7531e2de36e50d17dd5a128ac31db88a
LAST-MODIFIED:20260413T231200Z
SUMMARY:James Bondage
DTSTART:20110501T030000Z
DTEND:20110501T065500Z
DESCRIPTION:Dress the part and enjoy an evening playing the spy and co
 unterspy.
LOCATION:Victoria Event Centre
CATEGORIES:Playparty, Social Event, Sagacity Event
CONTACT:Ladyfish\, Ladyfish@sagacitygroup.net
CLASS:PUBLIC
END:VEVENT
END:VCALENDAR
