BEGIN:VCALENDAR
PRODID:-//AT Content Types//AT Event//EN
VERSION:2.0
METHOD:PUBLISH
BEGIN:VEVENT
DTSTAMP:20260419T193852Z
CREATED:20040619T055059Z
UID:ATEvent-1a5e7544b3b8d710004aac62e7713a60
LAST-MODIFIED:20260413T231156Z
SUMMARY:Domlander Fetish Competition & Play Party
DTSTART:20110327T030000Z
DTEND:20110327T065500Z
DESCRIPTION:The Classic Fetish Event of the year!
LOCATION:Victoria Event Centre
CATEGORIES:Playparty, Social Event, Sagacity Event
CONTACT:Ladyfish\, tickets@sagacitygroup.net
URL:http://www.sagacitygroup.net/main/events/domlander
CLASS:PUBLIC
END:VEVENT
END:VCALENDAR
