BEGIN:VCALENDAR
PRODID:-//AT Content Types//AT Event//EN
VERSION:2.0
METHOD:PUBLISH
BEGIN:VEVENT
DTSTAMP:20260419T194058Z
CREATED:20110117T221739Z
UID:ATEvent-9f8a9bda1d49e9c4e06b7c0e42efb43c
LAST-MODIFIED:20260413T231217Z
SUMMARY:Knot-On-The-Schedule Workshop & Play Party
DTSTART:20110226T210000Z
DTEND:20110227T090000Z
DESCRIPTION:Let's tie one on at this 3-hr rope-extensive workshop and 
 5-hour play party!
LOCATION:Victoria Event Center
CONTACT:tickets@sagacitygroup.net
URL:http://sagacitygroup.net/main/events/knotparty
CLASS:PUBLIC
END:VEVENT
END:VCALENDAR
