BEGIN:VCALENDAR
PRODID:-//AT Content Types//AT Event//EN
VERSION:1.0
BEGIN:VEVENT
DTSTART:20090725T030000Z
DTEND:20090726T065500Z
DCREATED:20090316T080608Z
UID:ATEvent-2a82b559ad5bee24b73a317f6f3c5fb6
SEQUENCE:0
LAST-MODIFIED:20260413T231451Z
SUMMARY:A Weekend with Midori
LOCATION:Harbour Towers
PRIORITY:3
TRANSP:0
END:VEVENT
END:VCALENDAR
