BEGIN:VCALENDAR
PRODID:-//AT Content Types//AT Event//EN
VERSION:1.0
BEGIN:VEVENT
DTSTART:20101106T010000Z
DTEND:20101107T193000Z
DCREATED:20101025T173434Z
UID:ATEvent-44e40770e099b0edc8ca8676157c8901
SEQUENCE:0
LAST-MODIFIED:20260413T231643Z
SUMMARY:2010 Birthday Bash
DESCRIPTION:10 years of debauchery
LOCATION:harbour towers
PRIORITY:3
TRANSP:0
END:VEVENT
END:VCALENDAR
